BEGIN:VCALENDAR
VERSION:2.0
PRODID:DPCALENDAR
CALSCALE:GREGORIAN
X-WR-TIMEZONE:UTC
BEGIN:VEVENT
DTSTART:20240217T150000Z
DTEND:20240217T173000Z
UID:6daef63cbcf06a464079245fdf95283c
SUMMARY:Fahrzeugkunde
DTSTAMP:20230115T082621Z
DESCRIPTION:
X-ALT-DESC;FMTTYPE=text/html:
X-ACCESS:1
X-MODIFIED:20240101T201322Z
X-HITS:280
X-URL:
X-COLOR:
END:VEVENT
END:VCALENDAR